
BEGIN:VCALENDAR
VERSION:2.0
PRODID:spatie/icalendar-generator
DESCRIPTION:Events from BioProtect
X-WR-CALDESC:Events from BioProtect
REFRESH-INTERVAL;VALUE=DURATION:PT1440M
X-PUBLISHED-TTL:PT1440M
BEGIN:VTIMEZONE
TZID:Etc/GMT+0
BEGIN:STANDARD
DTSTART:20250719T000000Z
TZOFFSETFROM:+0000
TZOFFSETTO:+0000
END:STANDARD
END:VTIMEZONE
BEGIN:VTIMEZONE
TZID:UTC
BEGIN:STANDARD
DTSTART:20250727T185557Z
TZOFFSETFROM:+0000
TZOFFSETTO:+0000
END:STANDARD
END:VTIMEZONE
BEGIN:VEVENT
UID:76-44
DTSTAMP:20260423T185557Z
SUMMARY:2026 All-Atlantic Ocean Research and Innovation Alliance (AAORIA) F
 orum
LOCATION:Bahia\, Brazil
ORGANIZER;CN=bioprotect:MAILTO:martha@indigo-med.com
DTSTART;TZID=Etc/GMT+0;VALUE=DATE:20260415
DTEND;TZID=Etc/GMT+0;VALUE=DATE:20260417
X-ALT-DESC;FMTTYPE=TEXT/HTML:Brazil will host the 2026 All-Atlantic Ocean R
 esearch and Innovation Alliance (AAORIA) Forum in the vibrant coastal city
  of Salvador\, Bahia\, on 15–16 April 2026. The Forum is the Alliance’
 s flagship annual gathering\, bringing together the Atlantic Community. Th
 e Forum aims to showcase AAORIA’s scientific coordination in addressing 
 ocean challenges. Building on the success of&amp;hellip\;
CATEGORIES:General
URL;VALUE=URI:https://bioprotect-project.eu/mc-events/2026-all-atlantic-oce
 an-research-and-innovation-alliance-aaoria-forum/
METHOD:PUBLISH
END:VEVENT
END:VCALENDAR