
BEGIN:VCALENDAR
VERSION:2.0
PRODID:spatie/icalendar-generator
DESCRIPTION:Events from BioProtect
X-WR-CALDESC:Events from BioProtect
REFRESH-INTERVAL;VALUE=DURATION:PT1440M
X-PUBLISHED-TTL:PT1440M
BEGIN:VTIMEZONE
TZID:Etc/GMT+0
BEGIN:STANDARD
DTSTART:20250724T000000Z
TZOFFSETFROM:+0000
TZOFFSETTO:+0000
END:STANDARD
END:VTIMEZONE
BEGIN:VTIMEZONE
TZID:UTC
BEGIN:STANDARD
DTSTART:20250727T170521Z
TZOFFSETFROM:+0000
TZOFFSETTO:+0000
END:STANDARD
END:VTIMEZONE
BEGIN:VEVENT
UID:94-54
DTSTAMP:20260423T170521Z
SUMMARY:ICES Workshop: Indicators to track nature restoration across the Gr
 eater North Sea Basin (WKRestore_GNS)
LOCATION:Copenhagen\, Denmark
ORGANIZER;CN=bioprotect:MAILTO:martha@indigo-med.com
DTSTART;TZID=Etc/GMT+0;VALUE=DATE:20260420
DTEND;TZID=Etc/GMT+0;VALUE=DATE:20260423
X-ALT-DESC;FMTTYPE=TEXT/HTML:ICES invites you to participate in the Worksh
 op to Identify Indicators to track nature restoration across the Greater N
 orth Sea Basin (WKRestore_GNS). The meeting will take place from April 20-
 22 and will build on results from an ICES data call on indicators for mari
 ne restoration and preparatory work\, including a comprehensive list of ha
 bitats and species&amp;hellip\;
CATEGORIES:General
URL;VALUE=URI:https://bioprotect-project.eu/mc-events/ices-workshop-indicat
 ors-to-track-nature-restoration-across-the-greater-north-sea-basin-wkresto
 re_gns/
METHOD:PUBLISH
END:VEVENT
END:VCALENDAR